BEGIN:VCALENDAR
VERSION:2.0
PRODID:SchoolNow
CALSCALE:GREGORIAN
BEGIN:VEVENT
UID:be4ad68a-f4a0-11ef-b8cb-0a58a9feac02
DTSTAMP:20251216T154517Z
SUMMARY:Jazz Band Rehearsal
LOCATION:Band Room
URL;VALUE=URI:https://www.dg58.org/on/calendar/7557152/jazz-band-rehearsal
DTSTART:20261020T120000Z
DTEND:20261020T124500Z
END:VEVENT
END:VCALENDAR
