BEGIN:VCALENDAR
VERSION:2.0
PRODID:SchoolNow
CALSCALE:GREGORIAN
BEGIN:VEVENT
UID:be34c4f8-f4a0-11ef-ac56-0a58a9feac02
DTSTAMP:20251216T154518Z
SUMMARY:Jazz Band Rehearsal
LOCATION:Band Room
URL;VALUE=URI:https://www.dg58.org/on/calendar/7557151/jazz-band-rehearsal
DTSTART:20261022T120000Z
DTEND:20261022T124500Z
END:VEVENT
END:VCALENDAR
