BEGIN:VCALENDAR
VERSION:2.0
PRODID:SchoolNow
CALSCALE:GREGORIAN
BEGIN:VEVENT
UID:46d297f6-ea45-11ef-9b9e-0a58a9feac02
DTSTAMP:20251216T154517Z
SUMMARY:Jazz Band Rehearsal
LOCATION:Band Room
URL;VALUE=URI:https://www.dg58.org/on/calendar/7464794/jazz-band-rehearsal
DTSTART:20261013T120000Z
DTEND:20261013T124500Z
END:VEVENT
END:VCALENDAR
