BEGIN:VCALENDAR
VERSION:2.0
PRODID:SchoolNow
CALSCALE:GREGORIAN
BEGIN:VEVENT
UID:6384afa8-e7e1-11ef-95e9-0affdecdfa17
DTSTAMP:20251216T154517Z
SUMMARY:Jazz Band Rehearsal
LOCATION:Band Room
URL;VALUE=URI:https://www.dg58.org/on/calendar/7449399/jazz-band-rehearsal
DTSTART:20261006T120000Z
DTEND:20261006T124500Z
END:VEVENT
END:VCALENDAR
