BEGIN:VCALENDAR
VERSION:2.0
PRODID:SchoolNow
CALSCALE:GREGORIAN
BEGIN:VEVENT
UID:636636ae-e7e1-11ef-9313-0affdecdfa17
DTSTAMP:20251216T154518Z
SUMMARY:Jazz Band Rehearsal
LOCATION:Band Room
URL;VALUE=URI:https://www.dg58.org/on/calendar/7449398/jazz-band-rehearsal
DTSTART:20261008T120000Z
DTEND:20261008T124500Z
END:VEVENT
END:VCALENDAR
