BEGIN:VCALENDAR
VERSION:2.0
PRODID:SchoolNow
CALSCALE:GREGORIAN
BEGIN:VEVENT
UID:a5f22008-e24d-11ef-bb57-0a58a9feac02
DTSTAMP:20251216T154518Z
SUMMARY:Jazz Band Rehearsal
LOCATION:Band Room
URL;VALUE=URI:https://www.dg58.org/on/calendar/7417170/jazz-band-rehearsal
DTSTART:20261001T120000Z
DTEND:20261001T124500Z
END:VEVENT
END:VCALENDAR
