BEGIN:VCALENDAR
VERSION:2.0
PRODID:SchoolNow
CALSCALE:GREGORIAN
BEGIN:VEVENT
UID:a5d9fe9c-e24d-11ef-a04a-0a58a9feac02
DTSTAMP:20251216T154517Z
SUMMARY:National Custodial Workers Day
URL;VALUE=URI:https://www.dg58.org/on/calendar/7417169/national-custodial-w
 orkers-day
DTSTART;VALUE=DATE:20261002
DTEND;VALUE=DATE:20261003
END:VEVENT
END:VCALENDAR
