BEGIN:VCALENDAR
VERSION:2.0
PRODID:SchoolNow
CALSCALE:GREGORIAN
BEGIN:VEVENT
UID:cd48a7da-df50-11ef-881f-0affd2dde303
DTSTAMP:20251216T154517Z
SUMMARY:Jazz Band Rehearsal
LOCATION:Band Room
URL;VALUE=URI:https://www.dg58.org/on/calendar/7399823/jazz-band-rehearsal
DTSTART:20260929T120000Z
DTEND:20260929T124500Z
END:VEVENT
END:VCALENDAR
