BEGIN:VCALENDAR
VERSION:2.0
PRODID:SchoolNow
CALSCALE:GREGORIAN
BEGIN:VEVENT
UID:e910417a-dd85-11ef-8b3c-0affeb2048dd
DTSTAMP:20251216T154518Z
SUMMARY:Jazz Band Rehearsal
LOCATION:Band Room
URL;VALUE=URI:https://www.dg58.org/on/calendar/7385751/jazz-band-rehearsal
DTSTART:20260924T120000Z
DTEND:20260924T124500Z
END:VEVENT
END:VCALENDAR
