BEGIN:VCALENDAR
VERSION:2.0
PRODID:SchoolNow
CALSCALE:GREGORIAN
BEGIN:VEVENT
UID:2615f496-d8f1-11ef-8618-0a58a9feac02
DTSTAMP:20251216T154517Z
SUMMARY:Jazz Band Rehearsal
LOCATION:Band Room
URL;VALUE=URI:https://www.dg58.org/on/calendar/7355165/jazz-band-rehearsal
DTSTART:20260922T120000Z
DTEND:20260922T124500Z
END:VEVENT
END:VCALENDAR
