BEGIN:VCALENDAR
VERSION:2.0
PRODID:SchoolNow
CALSCALE:GREGORIAN
BEGIN:VEVENT
UID:828556a8-d12c-11ef-8fa6-029ebb2831e5
DTSTAMP:20251216T154518Z
SUMMARY:Jazz Band Rehearsal
LOCATION:Band Room
URL;VALUE=URI:https://www.dg58.org/on/calendar/7306142/jazz-band-rehearsal
DTSTART:20260910T120000Z
DTEND:20260910T124500Z
END:VEVENT
END:VCALENDAR
