BEGIN:VCALENDAR
VERSION:2.0
PRODID:SchoolNow
CALSCALE:GREGORIAN
BEGIN:VEVENT
UID:c0612698-cdc9-11ef-8ffe-0a58a9feac02
DTSTAMP:20251216T154517Z
SUMMARY:Jazz Band Rehearsal
LOCATION:Band Room
URL;VALUE=URI:https://www.dg58.org/on/calendar/7286631/jazz-band-rehearsal
DTSTART:20260908T120000Z
DTEND:20260908T124500Z
END:VEVENT
END:VCALENDAR
