BEGIN:VCALENDAR
VERSION:2.0
PRODID:SchoolNow
CALSCALE:GREGORIAN
BEGIN:VEVENT
UID:2a9cd8f4-cbcc-11ef-91b9-0ea5f80f3037
DTSTAMP:20251216T154517Z
SUMMARY:Jazz Band Rehearsal
LOCATION:Band Room
URL;VALUE=URI:https://www.dg58.org/on/calendar/7273634/jazz-band-rehearsal
DTSTART:20260901T120000Z
DTEND:20260901T124500Z
END:VEVENT
END:VCALENDAR
