BEGIN:VCALENDAR
VERSION:2.0
PRODID:SchoolNow
CALSCALE:GREGORIAN
BEGIN:VEVENT
UID:2a8b3248-cbcc-11ef-815e-0ea5f80f3037
DTSTAMP:20251216T154518Z
SUMMARY:Jazz Band Rehearsal
LOCATION:Band Room
URL;VALUE=URI:https://www.dg58.org/on/calendar/7273632/jazz-band-rehearsal
DTSTART:20260903T120000Z
DTEND:20260903T124500Z
END:VEVENT
END:VCALENDAR
