BEGIN:VCALENDAR
VERSION:2.0
PRODID:SchoolNow
CALSCALE:GREGORIAN
BEGIN:VEVENT
UID:2a8b09c6-cbcc-11ef-82b2-0ea5f80f3037
DTSTAMP:20251216T154518Z
SUMMARY:Jazz Band Rehearsal
LOCATION:Band Room
URL;VALUE=URI:https://www.dg58.org/on/calendar/7273631/jazz-band-rehearsal
DTSTART:20260827T120000Z
DTEND:20260827T124500Z
END:VEVENT
END:VCALENDAR
