BEGIN:VCALENDAR
VERSION:2.0
PRODID:SchoolNow
CALSCALE:GREGORIAN
BEGIN:VEVENT
UID:0b01e090-c13e-11ef-adf9-0230e1b61143
DTSTAMP:20251216T154518Z
SUMMARY:Jazz Band Rehearsal
LOCATION:Band Room
URL;VALUE=URI:https://www.dg58.org/on/calendar/7215196/jazz-band-rehearsal
DTSTART:20260820T120000Z
DTEND:20260820T124500Z
END:VEVENT
END:VCALENDAR
