BEGIN:VCALENDAR
VERSION:2.0
PRODID:SchoolNow
CALSCALE:GREGORIAN
BEGIN:VEVENT
UID:2a2b4848-be74-11ef-affe-0223b1ab035b
DTSTAMP:20251216T154517Z
SUMMARY:Jazz Band Rehearsal
LOCATION:Band Room
URL;VALUE=URI:https://www.dg58.org/on/calendar/7198935/jazz-band-rehearsal
DTSTART:20260818T120000Z
DTEND:20260818T124500Z
END:VEVENT
END:VCALENDAR
