BEGIN:VCALENDAR
VERSION:2.0
PRODID:SchoolNow
CALSCALE:GREGORIAN
BEGIN:VEVENT
UID:49d8bfd0-bca9-11ef-979b-0ec12458f779
DTSTAMP:20251216T154517Z
SUMMARY:Jazz Band Rehearsal
LOCATION:Band Room
URL;VALUE=URI:https://www.dg58.org/on/calendar/7187610/jazz-band-rehearsal
DTSTART:20260811T120000Z
DTEND:20260811T124500Z
END:VEVENT
END:VCALENDAR
