BEGIN:VCALENDAR
VERSION:2.0
PRODID:SchoolNow
CALSCALE:GREGORIAN
BEGIN:VEVENT
UID:49cbc3d4-bca9-11ef-af70-0ec12458f779
DTSTAMP:20251216T154518Z
SUMMARY:Jazz Band Rehearsal
LOCATION:Band Room
URL;VALUE=URI:https://www.dg58.org/on/calendar/7187609/jazz-band-rehearsal
DTSTART:20260813T120000Z
DTEND:20260813T124500Z
END:VEVENT
END:VCALENDAR
