BEGIN:VCALENDAR
VERSION:2.0
PRODID:SchoolNow
CALSCALE:GREGORIAN
BEGIN:VEVENT
UID:c66f6308-b319-11ef-9686-029ce92d34b7
DTSTAMP:20251216T154517Z
SUMMARY:Jazz Band Rehearsal
LOCATION:Band Room
URL;VALUE=URI:https://www.dg58.org/on/calendar/7125873/jazz-band-rehearsal
DTSTART:20260804T120000Z
DTEND:20260804T124500Z
END:VEVENT
END:VCALENDAR
