BEGIN:VCALENDAR
VERSION:2.0
PRODID:SchoolNow
CALSCALE:GREGORIAN
BEGIN:VEVENT
UID:e1a456de-b0e8-11ef-a0e0-0afff10ba111
DTSTAMP:20251216T154517Z
SUMMARY:Jazz Band Rehearsal
LOCATION:Band Room
URL;VALUE=URI:https://www.dg58.org/on/calendar/7111509/jazz-band-rehearsal
DTSTART:20260728T120000Z
DTEND:20260728T124500Z
END:VEVENT
END:VCALENDAR
