BEGIN:VCALENDAR
VERSION:2.0
PRODID:SchoolNow
CALSCALE:GREGORIAN
BEGIN:VEVENT
UID:e196a70a-b0e8-11ef-a5d6-0afff10ba111
DTSTAMP:20251216T154518Z
SUMMARY:Jazz Band Rehearsal
LOCATION:Band Room
URL;VALUE=URI:https://www.dg58.org/on/calendar/7111508/jazz-band-rehearsal
DTSTART:20260730T120000Z
DTEND:20260730T124500Z
END:VEVENT
END:VCALENDAR
