BEGIN:VCALENDAR
VERSION:2.0
PRODID:SchoolNow
CALSCALE:GREGORIAN
BEGIN:VEVENT
UID:4905fa38-a858-11ef-be08-0afff70469bb
DTSTAMP:20251216T154517Z
SUMMARY:Jazz Band Rehearsal
LOCATION:Band Room
URL;VALUE=URI:https://www.dg58.org/on/calendar/7060175/jazz-band-rehearsal
DTSTART:20260721T120000Z
DTEND:20260721T124500Z
END:VEVENT
END:VCALENDAR
