BEGIN:VCALENDAR
VERSION:2.0
PRODID:SchoolNow
CALSCALE:GREGORIAN
BEGIN:VEVENT
UID:6ba49dbc-a5f4-11ef-8cf6-02b04c8476ad
DTSTAMP:20251216T154517Z
SUMMARY:Jazz Band Rehearsal
LOCATION:Band Room
URL;VALUE=URI:https://www.dg58.org/on/calendar/7043476/jazz-band-rehearsal
DTSTART:20260714T120000Z
DTEND:20260714T124500Z
END:VEVENT
END:VCALENDAR
