BEGIN:VCALENDAR
VERSION:2.0
PRODID:SchoolNow
CALSCALE:GREGORIAN
BEGIN:VEVENT
UID:6b9d459e-a5f4-11ef-bd3a-02b04c8476ad
DTSTAMP:20251216T154518Z
SUMMARY:Jazz Band Rehearsal
LOCATION:Band Room
URL;VALUE=URI:https://www.dg58.org/on/calendar/7043474/jazz-band-rehearsal
DTSTART:20260716T120000Z
DTEND:20260716T124500Z
END:VEVENT
END:VCALENDAR
