BEGIN:VCALENDAR
VERSION:2.0
PRODID:SchoolNow
CALSCALE:GREGORIAN
BEGIN:VEVENT
UID:b63929ee-9f94-11ef-9d0a-0a58a9feac02
DTSTAMP:20251216T154517Z
SUMMARY:Jazz Band Rehearsal
LOCATION:Band Room
URL;VALUE=URI:https://www.dg58.org/on/calendar/6995898/jazz-band-rehearsal
DTSTART:20260707T120000Z
DTEND:20260707T124500Z
END:VEVENT
END:VCALENDAR
