BEGIN:VCALENDAR
VERSION:2.0
PRODID:SchoolNow
CALSCALE:GREGORIAN
BEGIN:VEVENT
UID:b632c3d8-9f94-11ef-b4f2-0a58a9feac02
DTSTAMP:20251216T154518Z
SUMMARY:Jazz Band Rehearsal
LOCATION:Band Room
URL;VALUE=URI:https://www.dg58.org/on/calendar/6995897/jazz-band-rehearsal
DTSTART:20260709T120000Z
DTEND:20260709T124500Z
END:VEVENT
END:VCALENDAR
