BEGIN:VCALENDAR
VERSION:2.0
PRODID:SchoolNow
CALSCALE:GREGORIAN
BEGIN:VEVENT
UID:44553f66-956c-11ef-b72c-02d2077b3c69
DTSTAMP:20251216T154518Z
SUMMARY:Jazz Band Rehearsal
LOCATION:Band Room
URL;VALUE=URI:https://www.dg58.org/on/calendar/6916003/jazz-band-rehearsal
DTSTART:20260625T120000Z
DTEND:20260625T124500Z
END:VEVENT
END:VCALENDAR
