BEGIN:VCALENDAR
VERSION:2.0
PRODID:SchoolNow
CALSCALE:GREGORIAN
BEGIN:VEVENT
UID:b279998c-8ca8-11ef-85fd-02fbab0b19c3
DTSTAMP:20251216T154517Z
SUMMARY:Jazz Band Rehearsal
LOCATION:Band Room
URL;VALUE=URI:https://www.dg58.org/on/calendar/6844573/jazz-band-rehearsal
DTSTART:20260616T120000Z
DTEND:20260616T124500Z
END:VEVENT
END:VCALENDAR
