BEGIN:VCALENDAR
VERSION:2.0
PRODID:SchoolNow
CALSCALE:GREGORIAN
BEGIN:VEVENT
UID:11d1a6a2-8517-11ef-aa47-0a58a9feac02
DTSTAMP:20251216T154518Z
SUMMARY:Jazz Band Rehearsal
LOCATION:Band Room
URL;VALUE=URI:https://www.dg58.org/on/calendar/6779760/jazz-band-rehearsal
DTSTART:20260604T120000Z
DTEND:20260604T124500Z
END:VEVENT
END:VCALENDAR
