BEGIN:VCALENDAR
VERSION:2.0
PRODID:SchoolNow
CALSCALE:GREGORIAN
BEGIN:VEVENT
UID:657e1918-7eb7-11ef-8c3b-0e208f33a511
DTSTAMP:20251216T154518Z
SUMMARY:Jazz Band Rehearsal
LOCATION:Band Room
URL;VALUE=URI:https://www.dg58.org/on/calendar/6719893/jazz-band-rehearsal
DTSTART:20260528T120000Z
DTEND:20260528T124500Z
END:VEVENT
END:VCALENDAR
