BEGIN:VCALENDAR
VERSION:2.0
PRODID:SchoolNow
CALSCALE:GREGORIAN
BEGIN:VEVENT
UID:65712e06-7eb7-11ef-a61a-0e208f33a511
DTSTAMP:20251216T154517Z
SUMMARY:Jazz Band Rehearsal
LOCATION:Band Room
URL;VALUE=URI:https://www.dg58.org/on/calendar/6719892/jazz-band-rehearsal
DTSTART:20260526T120000Z
DTEND:20260526T124500Z
END:VEVENT
END:VCALENDAR
