BEGIN:VCALENDAR
VERSION:2.0
PRODID:SchoolNow
CALSCALE:GREGORIAN
BEGIN:VEVENT
UID:b3012c2e-79ef-11ef-ad85-0a58a9feac02
DTSTAMP:20251216T154518Z
SUMMARY:Jazz Band Rehearsal
LOCATION:Band Room
URL;VALUE=URI:https://www.dg58.org/on/calendar/6673948/jazz-band-rehearsal
DTSTART:20260521T120000Z
DTEND:20260521T124500Z
END:VEVENT
END:VCALENDAR
