BEGIN:VCALENDAR
VERSION:2.0
PRODID:SchoolNow
CALSCALE:GREGORIAN
BEGIN:VEVENT
UID:7d014d9a-75bf-11ef-86a6-0a58a9feac02
DTSTAMP:20251216T154518Z
SUMMARY:Jazz Band Rehearsal
LOCATION:Band Room
URL;VALUE=URI:https://www.dg58.org/on/calendar/6633048/jazz-band-rehearsal
DTSTART:20260514T120000Z
DTEND:20260514T124500Z
END:VEVENT
END:VCALENDAR
