BEGIN:VCALENDAR
VERSION:2.0
PRODID:SchoolNow
CALSCALE:GREGORIAN
BEGIN:VEVENT
UID:af09e3a8-725c-11ef-acca-0231ca98b31b
DTSTAMP:20251216T154517Z
SUMMARY:Jazz Band Rehearsal
LOCATION:Band Room
URL;VALUE=URI:https://www.dg58.org/on/calendar/6600813/jazz-band-rehearsal
DTSTART:20260512T120000Z
DTEND:20260512T124500Z
END:VEVENT
END:VCALENDAR
