BEGIN:VCALENDAR
VERSION:2.0
PRODID:SchoolNow
CALSCALE:GREGORIAN
BEGIN:VEVENT
UID:d9e832fe-6f92-11ef-b8ef-0afffa11fd77
DTSTAMP:20251216T154518Z
SUMMARY:Jazz Band Rehearsal
LOCATION:Band Room
URL;VALUE=URI:https://www.dg58.org/on/calendar/6570125/jazz-band-rehearsal
DTSTART:20260507T120000Z
DTEND:20260507T124500Z
END:VEVENT
END:VCALENDAR
