BEGIN:VCALENDAR
VERSION:2.0
PRODID:SchoolNow
CALSCALE:GREGORIAN
BEGIN:VEVENT
UID:d9e06100-6f92-11ef-aeda-0afffa11fd77
DTSTAMP:20251216T154517Z
SUMMARY:Jazz Band Rehearsal
LOCATION:Band Room
URL;VALUE=URI:https://www.dg58.org/on/calendar/6570124/jazz-band-rehearsal
DTSTART:20260505T120000Z
DTEND:20260505T124500Z
END:VEVENT
END:VCALENDAR
