BEGIN:VCALENDAR
VERSION:2.0
PRODID:SchoolNow
CALSCALE:GREGORIAN
BEGIN:VEVENT
UID:45913f58-6702-11ef-9646-0a58a9feac02
DTSTAMP:20251216T154518Z
SUMMARY:Jazz Band Rehearsal
LOCATION:Band Room
URL;VALUE=URI:https://www.dg58.org/on/calendar/6490550/jazz-band-rehearsal
DTSTART:20260430T120000Z
DTEND:20260430T124500Z
END:VEVENT
END:VCALENDAR
