BEGIN:VCALENDAR
VERSION:2.0
PRODID:SchoolNow
CALSCALE:GREGORIAN
BEGIN:VEVENT
UID:5bc03354-656a-11ef-817e-023ceaa7b50b
DTSTAMP:20251216T154517Z
SUMMARY:Jazz Band Rehearsal
LOCATION:Band Room
URL;VALUE=URI:https://www.dg58.org/on/calendar/6475503/jazz-band-rehearsal
DTSTART:20260428T120000Z
DTEND:20260428T124500Z
END:VEVENT
END:VCALENDAR
