BEGIN:VCALENDAR
VERSION:2.0
PRODID:SchoolNow
CALSCALE:GREGORIAN
BEGIN:VEVENT
UID:6d35dd10-6339-11ef-852f-0a58a9feac02
DTSTAMP:20251216T154518Z
SUMMARY:Jazz Band Rehearsal
LOCATION:Band Room
URL;VALUE=URI:https://www.dg58.org/on/calendar/6459126/jazz-band-rehearsal
DTSTART:20260212T130000Z
DTEND:20260212T134500Z
END:VEVENT
END:VCALENDAR
