BEGIN:VCALENDAR
VERSION:2.0
PRODID:SchoolNow
CALSCALE:GREGORIAN
BEGIN:VEVENT
UID:6d35ceba-6339-11ef-9eb9-0a58a9feac02
DTSTAMP:20251216T154518Z
SUMMARY:Jazz Band Rehearsal
LOCATION:Band Room
URL;VALUE=URI:https://www.dg58.org/on/calendar/6459117/jazz-band-rehearsal
DTSTART:20251211T130000Z
DTEND:20251211T134500Z
END:VEVENT
END:VCALENDAR
