BEGIN:VCALENDAR
VERSION:2.0
PRODID:SchoolNow
CALSCALE:GREGORIAN
BEGIN:VEVENT
UID:6d35c6d6-6339-11ef-aa4d-0a58a9feac02
DTSTAMP:20251216T154518Z
SUMMARY:Jazz Band Rehearsal
LOCATION:Band Room
URL;VALUE=URI:https://www.dg58.org/on/calendar/6459108/jazz-band-rehearsal
DTSTART:20251009T120000Z
DTEND:20251009T124500Z
END:VEVENT
END:VCALENDAR
