BEGIN:VCALENDAR
VERSION:2.0
PRODID:SchoolNow
CALSCALE:GREGORIAN
BEGIN:VEVENT
UID:6d35c410-6339-11ef-bde7-0a58a9feac02
DTSTAMP:20251216T154518Z
SUMMARY:Jazz Band Rehearsal
LOCATION:Band Room
URL;VALUE=URI:https://www.dg58.org/on/calendar/6459105/jazz-band-rehearsal
DTSTART:20250918T120000Z
DTEND:20250918T124500Z
END:VEVENT
END:VCALENDAR
