BEGIN:VCALENDAR
VERSION:2.0
PRODID:SchoolNow
CALSCALE:GREGORIAN
BEGIN:VEVENT
UID:6d35c2da-6339-11ef-bda6-0a58a9feac02
DTSTAMP:20251216T154518Z
SUMMARY:Jazz Band Rehearsal
LOCATION:Band Room
URL;VALUE=URI:https://www.dg58.org/on/calendar/6459104/jazz-band-rehearsal
DTSTART:20250911T120000Z
DTEND:20250911T124500Z
END:VEVENT
END:VCALENDAR
