BEGIN:VCALENDAR
VERSION:2.0
PRODID:SchoolNow
CALSCALE:GREGORIAN
BEGIN:VEVENT
UID:6d35c1cc-6339-11ef-9ab8-0a58a9feac02
DTSTAMP:20251216T154518Z
SUMMARY:Jazz Band Rehearsal
LOCATION:Band Room
URL;VALUE=URI:https://www.dg58.org/on/calendar/6459103/jazz-band-rehearsal
DTSTART:20250904T120000Z
DTEND:20250904T124500Z
END:VEVENT
END:VCALENDAR
