BEGIN:VCALENDAR
VERSION:2.0
PRODID:SchoolNow
CALSCALE:GREGORIAN
BEGIN:VEVENT
UID:6d35bc72-6339-11ef-beec-0a58a9feac02
DTSTAMP:20251216T154518Z
SUMMARY:Jazz Band Rehearsal
LOCATION:Band Room
URL;VALUE=URI:https://www.dg58.org/on/calendar/6459101/jazz-band-rehearsal
DTSTART:20250821T120000Z
DTEND:20250821T124500Z
END:VEVENT
END:VCALENDAR
