BEGIN:VCALENDAR
VERSION:2.0
PRODID:SchoolNow
CALSCALE:GREGORIAN
BEGIN:VEVENT
UID:6d088806-6339-11ef-87d5-0a58a9feac02
DTSTAMP:20251216T154517Z
SUMMARY:Jazz Band Rehearsal
LOCATION:Band Room
URL;VALUE=URI:https://www.dg58.org/on/calendar/6459042/jazz-band-rehearsal
DTSTART:20260203T130000Z
DTEND:20260203T134500Z
END:VEVENT
END:VCALENDAR
