BEGIN:VCALENDAR
VERSION:2.0
PRODID:SchoolNow
CALSCALE:GREGORIAN
BEGIN:VEVENT
UID:6d087d34-6339-11ef-be3f-0a58a9feac02
DTSTAMP:20251216T154517Z
SUMMARY:Jazz Band Rehearsal
LOCATION:Band Room
URL;VALUE=URI:https://www.dg58.org/on/calendar/6459034/jazz-band-rehearsal
DTSTART:20251209T130000Z
DTEND:20251209T134500Z
END:VEVENT
END:VCALENDAR
