BEGIN:VCALENDAR
VERSION:2.0
PRODID:SchoolNow
CALSCALE:GREGORIAN
BEGIN:VEVENT
UID:6d087a8c-6339-11ef-a7b3-0a58a9feac02
DTSTAMP:20251216T154517Z
SUMMARY:Jazz Band Rehearsal
LOCATION:Band Room
URL;VALUE=URI:https://www.dg58.org/on/calendar/6459031/jazz-band-rehearsal
DTSTART:20251118T130000Z
DTEND:20251118T134500Z
END:VEVENT
END:VCALENDAR
