BEGIN:VCALENDAR
VERSION:2.0
PRODID:SchoolNow
CALSCALE:GREGORIAN
BEGIN:VEVENT
UID:6d0878ca-6339-11ef-aa9f-0a58a9feac02
DTSTAMP:20251216T154517Z
SUMMARY:Jazz Band Rehearsal
LOCATION:Band Room
URL;VALUE=URI:https://www.dg58.org/on/calendar/6459029/jazz-band-rehearsal
DTSTART:20251104T130000Z
DTEND:20251104T134500Z
END:VEVENT
END:VCALENDAR
